BEGIN:VCALENDAR
VERSION:2.0
BEGIN:VEVENT
URL:https://www.otrcommunity.com.r2pmarketplace.com/index.php/jomsocial/events/viewevent/2-2024-family-reunion-planning-meeting?groupid=2 
DTSTART:20240427T190000
DTEND:20240427T210000
SUMMARY:2024 Family Reunion Planning Meeting
DESCRIPTION:The purpose of this meeting is to begin the work of planning for the 2024 Eatmon/Eatman & Family Reunion. During the meeting there will be a discussion of and possibly a determination of the date for the reunion. Please give thought to this meeting so that we can make it as productive as possible.
LOCATION:Online:  Committee https://streamyard.com/qdzm2ssf9w     Family: https://www.facebook.com/rise2prosperity
END:VEVENT
END:VCALENDAR