BEGIN:VCALENDAR
VERSION:2.0
BEGIN:VEVENT
URL:https://www.otrcommunity.com.r2pmarketplace.com/index.php/jomsocial/events/viewevent/1-rise2prosperity 
DTSTART:20240424T200000
DTEND:20240424T220000
SUMMARY:Rise2Prosperity
DESCRIPTION:Rise2Prosperity is a weekly live broadcast. The broadcast using a forum format guided by a theme and question and answer session. The show Co-hosts Lady Antoinette and Minister Jamie Eatmon are joined by panelist and the communication room guest.
LOCATION:Online
END:VEVENT
END:VCALENDAR